BEGIN:VCALENDAR
VERSION:2.0
PRODID:www.ashland.edu
BEGIN:VEVENT
UID:69ece26f5d30d
DTSTART:20250523T213000Z
SEQUENCE:0
TRANSP:OPAQUE
DTEND:20250523T210000Z
SUMMARY:AU Summer Sports Camps
CLASS:PUBLIC
DESCRIPTION:AU Summer Sports Camps
DTSTAMP:20260425T154903Z
END:VEVENT
BEGIN:VEVENT
UID:69ece26f5d34b
DTSTART:20250524T213000Z
SEQUENCE:0
TRANSP:OPAQUE
DTEND:20250524T210000Z
SUMMARY:AU Summer Sports Camps
CLASS:PUBLIC
DESCRIPTION:AU Summer Sports Camps
DTSTAMP:20260425T154903Z
END:VEVENT
BEGIN:VEVENT
UID:69ece26f5d354
DTSTART:20250525T213000Z
SEQUENCE:0
TRANSP:OPAQUE
DTEND:20250525T210000Z
SUMMARY:AU Summer Sports Camps
CLASS:PUBLIC
DESCRIPTION:AU Summer Sports Camps
DTSTAMP:20260425T154903Z
END:VEVENT
BEGIN:VEVENT
UID:69ece26f5d35b
DTSTART:20250526T213000Z
SEQUENCE:0
TRANSP:OPAQUE
DTEND:20250526T210000Z
SUMMARY:AU Summer Sports Camps
CLASS:PUBLIC
DESCRIPTION:AU Summer Sports Camps
DTSTAMP:20260425T154903Z
END:VEVENT
BEGIN:VEVENT
UID:69ece26f5d361
DTSTART:20250527T213000Z
SEQUENCE:0
TRANSP:OPAQUE
DTEND:20250527T210000Z
SUMMARY:AU Summer Sports Camps
CLASS:PUBLIC
DESCRIPTION:AU Summer Sports Camps
DTSTAMP:20260425T154903Z
END:VEVENT
BEGIN:VEVENT
UID:69ece26f5d368
DTSTART:20250528T213000Z
SEQUENCE:0
TRANSP:OPAQUE
DTEND:20250528T210000Z
SUMMARY:AU Summer Sports Camps
CLASS:PUBLIC
DESCRIPTION:AU Summer Sports Camps
DTSTAMP:20260425T154903Z
END:VEVENT
BEGIN:VEVENT
UID:69ece26f5d36f
DTSTART:20250529T213000Z
SEQUENCE:0
TRANSP:OPAQUE
DTEND:20250529T210000Z
SUMMARY:AU Summer Sports Camps
CLASS:PUBLIC
DESCRIPTION:AU Summer Sports Camps
DTSTAMP:20260425T154903Z
END:VEVENT
BEGIN:VEVENT
UID:69ece26f5d375
DTSTART:20250530T213000Z
SEQUENCE:0
TRANSP:OPAQUE
DTEND:20250530T210000Z
SUMMARY:AU Summer Sports Camps
CLASS:PUBLIC
DESCRIPTION:AU Summer Sports Camps
DTSTAMP:20260425T154903Z
END:VEVENT
BEGIN:VEVENT
UID:69ece26f5d37c
DTSTART:20250531T213000Z
SEQUENCE:0
TRANSP:OPAQUE
DTEND:20250531T210000Z
SUMMARY:AU Summer Sports Camps
CLASS:PUBLIC
DESCRIPTION:AU Summer Sports Camps
DTSTAMP:20260425T154903Z
END:VEVENT
BEGIN:VEVENT
UID:69ece26f5d383
DTSTART:20250601T213000Z
SEQUENCE:0
TRANSP:OPAQUE
DTEND:20250601T210000Z
SUMMARY:AU Summer Sports Camps
CLASS:PUBLIC
DESCRIPTION:AU Summer Sports Camps
DTSTAMP:20260425T154903Z
END:VEVENT
BEGIN:VEVENT
UID:69ece26f5d389
DTSTART:20250602T213000Z
SEQUENCE:0
TRANSP:OPAQUE
DTEND:20250602T210000Z
SUMMARY:AU Summer Sports Camps
CLASS:PUBLIC
DESCRIPTION:AU Summer Sports Camps
DTSTAMP:20260425T154903Z
END:VEVENT
BEGIN:VEVENT
UID:69ece26f5d390
DTSTART:20250603T213000Z
SEQUENCE:0
TRANSP:OPAQUE
DTEND:20250603T210000Z
SUMMARY:AU Summer Sports Camps
CLASS:PUBLIC
DESCRIPTION:AU Summer Sports Camps
DTSTAMP:20260425T154903Z
END:VEVENT
BEGIN:VEVENT
UID:69ece26f5d396
DTSTART:20250604T213000Z
SEQUENCE:0
TRANSP:OPAQUE
DTEND:20250604T210000Z
SUMMARY:AU Summer Sports Camps
CLASS:PUBLIC
DESCRIPTION:AU Summer Sports Camps
DTSTAMP:20260425T154903Z
END:VEVENT
BEGIN:VEVENT
UID:69ece26f5d39d
DTSTART:20250605T213000Z
SEQUENCE:0
TRANSP:OPAQUE
DTEND:20250605T210000Z
SUMMARY:AU Summer Sports Camps
CLASS:PUBLIC
DESCRIPTION:AU Summer Sports Camps
DTSTAMP:20260425T154903Z
END:VEVENT
BEGIN:VEVENT
UID:69ece26f5d3a3
DTSTART:20250606T213000Z
SEQUENCE:0
TRANSP:OPAQUE
DTEND:20250606T210000Z
SUMMARY:AU Summer Sports Camps
CLASS:PUBLIC
DESCRIPTION:AU Summer Sports Camps
DTSTAMP:20260425T154903Z
END:VEVENT
BEGIN:VEVENT
UID:69ece26f5d3aa
DTSTART:20250607T213000Z
SEQUENCE:0
TRANSP:OPAQUE
DTEND:20250607T210000Z
SUMMARY:AU Summer Sports Camps
CLASS:PUBLIC
DESCRIPTION:AU Summer Sports Camps
DTSTAMP:20260425T154903Z
END:VEVENT
BEGIN:VEVENT
UID:69ece26f5d3b0
DTSTART:20250608T213000Z
SEQUENCE:0
TRANSP:OPAQUE
DTEND:20250608T210000Z
SUMMARY:AU Summer Sports Camps
CLASS:PUBLIC
DESCRIPTION:AU Summer Sports Camps
DTSTAMP:20260425T154903Z
END:VEVENT
BEGIN:VEVENT
UID:69ece26f5d3b6
DTSTART:20250609T213000Z
SEQUENCE:0
TRANSP:OPAQUE
DTEND:20250609T210000Z
SUMMARY:AU Summer Sports Camps
CLASS:PUBLIC
DESCRIPTION:AU Summer Sports Camps
DTSTAMP:20260425T154903Z
END:VEVENT
BEGIN:VEVENT
UID:69ece26f5d3bd
DTSTART:20250610T213000Z
SEQUENCE:0
TRANSP:OPAQUE
DTEND:20250610T210000Z
SUMMARY:AU Summer Sports Camps
CLASS:PUBLIC
DESCRIPTION:AU Summer Sports Camps
DTSTAMP:20260425T154903Z
END:VEVENT
BEGIN:VEVENT
UID:69ece26f5d3c4
DTSTART:20250611T213000Z
SEQUENCE:0
TRANSP:OPAQUE
DTEND:20250611T210000Z
SUMMARY:AU Summer Sports Camps
CLASS:PUBLIC
DESCRIPTION:AU Summer Sports Camps
DTSTAMP:20260425T154903Z
END:VEVENT
BEGIN:VEVENT
UID:69ece26f5d3ca
DTSTART:20250612T213000Z
SEQUENCE:0
TRANSP:OPAQUE
DTEND:20250612T210000Z
SUMMARY:AU Summer Sports Camps
CLASS:PUBLIC
DESCRIPTION:AU Summer Sports Camps
DTSTAMP:20260425T154903Z
END:VEVENT
BEGIN:VEVENT
UID:69ece26f5d3d0
DTSTART:20250613T213000Z
SEQUENCE:0
TRANSP:OPAQUE
DTEND:20250613T210000Z
SUMMARY:AU Summer Sports Camps
CLASS:PUBLIC
DESCRIPTION:AU Summer Sports Camps
DTSTAMP:20260425T154903Z
END:VEVENT
BEGIN:VEVENT
UID:69ece26f5d3d8
DTSTART:20250614T213000Z
SEQUENCE:0
TRANSP:OPAQUE
DTEND:20250614T210000Z
SUMMARY:AU Summer Sports Camps
CLASS:PUBLIC
DESCRIPTION:AU Summer Sports Camps
DTSTAMP:20260425T154903Z
END:VEVENT
BEGIN:VEVENT
UID:69ece26f5d3de
DTSTART:20250615T213000Z
SEQUENCE:0
TRANSP:OPAQUE
DTEND:20250615T210000Z
SUMMARY:AU Summer Sports Camps
CLASS:PUBLIC
DESCRIPTION:AU Summer Sports Camps
DTSTAMP:20260425T154903Z
END:VEVENT
BEGIN:VEVENT
UID:69ece26f5d3e4
DTSTART:20250616T213000Z
SEQUENCE:0
TRANSP:OPAQUE
DTEND:20250616T210000Z
SUMMARY:AU Summer Sports Camps
CLASS:PUBLIC
DESCRIPTION:AU Summer Sports Camps
DTSTAMP:20260425T154903Z
END:VEVENT
BEGIN:VEVENT
UID:69ece26f5d3eb
DTSTART:20250617T213000Z
SEQUENCE:0
TRANSP:OPAQUE
DTEND:20250617T210000Z
SUMMARY:AU Summer Sports Camps
CLASS:PUBLIC
DESCRIPTION:AU Summer Sports Camps
DTSTAMP:20260425T154903Z
END:VEVENT
BEGIN:VEVENT
UID:69ece26f5d3f1
DTSTART:20250618T213000Z
SEQUENCE:0
TRANSP:OPAQUE
DTEND:20250618T210000Z
SUMMARY:AU Summer Sports Camps
CLASS:PUBLIC
DESCRIPTION:AU Summer Sports Camps
DTSTAMP:20260425T154903Z
END:VEVENT
BEGIN:VEVENT
UID:69ece26f5d3f8
DTSTART:20250619T213000Z
SEQUENCE:0
TRANSP:OPAQUE
DTEND:20250619T210000Z
SUMMARY:AU Summer Sports Camps
CLASS:PUBLIC
DESCRIPTION:AU Summer Sports Camps
DTSTAMP:20260425T154903Z
END:VEVENT
BEGIN:VEVENT
UID:69ece26f5d3fe
DTSTART:20250620T213000Z
SEQUENCE:0
TRANSP:OPAQUE
DTEND:20250620T210000Z
SUMMARY:AU Summer Sports Camps
CLASS:PUBLIC
DESCRIPTION:AU Summer Sports Camps
DTSTAMP:20260425T154903Z
END:VEVENT
BEGIN:VEVENT
UID:69ece26f5d404
DTSTART:20250621T213000Z
SEQUENCE:0
TRANSP:OPAQUE
DTEND:20250621T210000Z
SUMMARY:AU Summer Sports Camps
CLASS:PUBLIC
DESCRIPTION:AU Summer Sports Camps
DTSTAMP:20260425T154903Z
END:VEVENT
BEGIN:VEVENT
UID:69ece26f5d40b
DTSTART:20250622T213000Z
SEQUENCE:0
TRANSP:OPAQUE
DTEND:20250622T210000Z
SUMMARY:AU Summer Sports Camps
CLASS:PUBLIC
DESCRIPTION:AU Summer Sports Camps
DTSTAMP:20260425T154903Z
END:VEVENT
BEGIN:VEVENT
UID:69ece26f5d411
DTSTART:20250623T213000Z
SEQUENCE:0
TRANSP:OPAQUE
DTEND:20250623T210000Z
SUMMARY:AU Summer Sports Camps
CLASS:PUBLIC
DESCRIPTION:AU Summer Sports Camps
DTSTAMP:20260425T154903Z
END:VEVENT
BEGIN:VEVENT
UID:69ece26f5d418
DTSTART:20250624T213000Z
SEQUENCE:0
TRANSP:OPAQUE
DTEND:20250624T210000Z
SUMMARY:AU Summer Sports Camps
CLASS:PUBLIC
DESCRIPTION:AU Summer Sports Camps
DTSTAMP:20260425T154903Z
END:VEVENT
BEGIN:VEVENT
UID:69ece26f5d41e
DTSTART:20250625T213000Z
SEQUENCE:0
TRANSP:OPAQUE
DTEND:20250625T210000Z
SUMMARY:AU Summer Sports Camps
CLASS:PUBLIC
DESCRIPTION:AU Summer Sports Camps
DTSTAMP:20260425T154903Z
END:VEVENT
BEGIN:VEVENT
UID:69ece26f5d425
DTSTART:20250626T213000Z
SEQUENCE:0
TRANSP:OPAQUE
DTEND:20250626T210000Z
SUMMARY:AU Summer Sports Camps
CLASS:PUBLIC
DESCRIPTION:AU Summer Sports Camps
DTSTAMP:20260425T154903Z
END:VEVENT
BEGIN:VEVENT
UID:69ece26f5d42b
DTSTART:20250627T213000Z
SEQUENCE:0
TRANSP:OPAQUE
DTEND:20250627T210000Z
SUMMARY:AU Summer Sports Camps
CLASS:PUBLIC
DESCRIPTION:AU Summer Sports Camps
DTSTAMP:20260425T154903Z
END:VEVENT
BEGIN:VEVENT
UID:69ece26f5d432
DTSTART:20250628T213000Z
SEQUENCE:0
TRANSP:OPAQUE
DTEND:20250628T210000Z
SUMMARY:AU Summer Sports Camps
CLASS:PUBLIC
DESCRIPTION:AU Summer Sports Camps
DTSTAMP:20260425T154903Z
END:VEVENT
BEGIN:VEVENT
UID:69ece26f5d438
DTSTART:20250629T213000Z
SEQUENCE:0
TRANSP:OPAQUE
DTEND:20250629T210000Z
SUMMARY:AU Summer Sports Camps
CLASS:PUBLIC
DESCRIPTION:AU Summer Sports Camps
DTSTAMP:20260425T154903Z
END:VEVENT
BEGIN:VEVENT
UID:69ece26f5d43f
DTSTART:20250630T213000Z
SEQUENCE:0
TRANSP:OPAQUE
DTEND:20250630T210000Z
SUMMARY:AU Summer Sports Camps
CLASS:PUBLIC
DESCRIPTION:AU Summer Sports Camps
DTSTAMP:20260425T154903Z
END:VEVENT
BEGIN:VEVENT
UID:69ece26f5d445
DTSTART:20250701T213000Z
SEQUENCE:0
TRANSP:OPAQUE
DTEND:20250701T210000Z
SUMMARY:AU Summer Sports Camps
CLASS:PUBLIC
DESCRIPTION:AU Summer Sports Camps
DTSTAMP:20260425T154903Z
END:VEVENT
BEGIN:VEVENT
UID:69ece26f5d44c
DTSTART:20250702T213000Z
SEQUENCE:0
TRANSP:OPAQUE
DTEND:20250702T210000Z
SUMMARY:AU Summer Sports Camps
CLASS:PUBLIC
DESCRIPTION:AU Summer Sports Camps
DTSTAMP:20260425T154903Z
END:VEVENT
BEGIN:VEVENT
UID:69ece26f5d452
DTSTART:20250703T213000Z
SEQUENCE:0
TRANSP:OPAQUE
DTEND:20250703T210000Z
SUMMARY:AU Summer Sports Camps
CLASS:PUBLIC
DESCRIPTION:AU Summer Sports Camps
DTSTAMP:20260425T154903Z
END:VEVENT
BEGIN:VEVENT
UID:69ece26f5d459
DTSTART:20250704T213000Z
SEQUENCE:0
TRANSP:OPAQUE
DTEND:20250704T210000Z
SUMMARY:AU Summer Sports Camps
CLASS:PUBLIC
DESCRIPTION:AU Summer Sports Camps
DTSTAMP:20260425T154903Z
END:VEVENT
BEGIN:VEVENT
UID:69ece26f5d45f
DTSTART:20250705T213000Z
SEQUENCE:0
TRANSP:OPAQUE
DTEND:20250705T210000Z
SUMMARY:AU Summer Sports Camps
CLASS:PUBLIC
DESCRIPTION:AU Summer Sports Camps
DTSTAMP:20260425T154903Z
END:VEVENT
BEGIN:VEVENT
UID:69ece26f5d466
DTSTART:20250706T213000Z
SEQUENCE:0
TRANSP:OPAQUE
DTEND:20250706T210000Z
SUMMARY:AU Summer Sports Camps
CLASS:PUBLIC
DESCRIPTION:AU Summer Sports Camps
DTSTAMP:20260425T154903Z
END:VEVENT
BEGIN:VEVENT
UID:69ece26f5d46d
DTSTART:20250707T213000Z
SEQUENCE:0
TRANSP:OPAQUE
DTEND:20250707T210000Z
SUMMARY:AU Summer Sports Camps
CLASS:PUBLIC
DESCRIPTION:AU Summer Sports Camps
DTSTAMP:20260425T154903Z
END:VEVENT
BEGIN:VEVENT
UID:69ece26f5d473
DTSTART:20250708T213000Z
SEQUENCE:0
TRANSP:OPAQUE
DTEND:20250708T210000Z
SUMMARY:AU Summer Sports Camps
CLASS:PUBLIC
DESCRIPTION:AU Summer Sports Camps
DTSTAMP:20260425T154903Z
END:VEVENT
BEGIN:VEVENT
UID:69ece26f5d479
DTSTART:20250709T213000Z
SEQUENCE:0
TRANSP:OPAQUE
DTEND:20250709T210000Z
SUMMARY:AU Summer Sports Camps
CLASS:PUBLIC
DESCRIPTION:AU Summer Sports Camps
DTSTAMP:20260425T154903Z
END:VEVENT
BEGIN:VEVENT
UID:69ece26f5d480
DTSTART:20250710T213000Z
SEQUENCE:0
TRANSP:OPAQUE
DTEND:20250710T210000Z
SUMMARY:AU Summer Sports Camps
CLASS:PUBLIC
DESCRIPTION:AU Summer Sports Camps
DTSTAMP:20260425T154903Z
END:VEVENT
BEGIN:VEVENT
UID:69ece26f5d486
DTSTART:20250711T213000Z
SEQUENCE:0
TRANSP:OPAQUE
DTEND:20250711T210000Z
SUMMARY:AU Summer Sports Camps
CLASS:PUBLIC
DESCRIPTION:AU Summer Sports Camps
DTSTAMP:20260425T154903Z
END:VEVENT
BEGIN:VEVENT
UID:69ece26f5d48d
DTSTART:20250712T213000Z
SEQUENCE:0
TRANSP:OPAQUE
DTEND:20250712T210000Z
SUMMARY:AU Summer Sports Camps
CLASS:PUBLIC
DESCRIPTION:AU Summer Sports Camps
DTSTAMP:20260425T154903Z
END:VEVENT
BEGIN:VEVENT
UID:69ece26f5d494
DTSTART:20250713T213000Z
SEQUENCE:0
TRANSP:OPAQUE
DTEND:20250713T210000Z
SUMMARY:AU Summer Sports Camps
CLASS:PUBLIC
DESCRIPTION:AU Summer Sports Camps
DTSTAMP:20260425T154903Z
END:VEVENT
BEGIN:VEVENT
UID:69ece26f5d49a
DTSTART:20250714T213000Z
SEQUENCE:0
TRANSP:OPAQUE
DTEND:20250714T210000Z
SUMMARY:AU Summer Sports Camps
CLASS:PUBLIC
DESCRIPTION:AU Summer Sports Camps
DTSTAMP:20260425T154903Z
END:VEVENT
BEGIN:VEVENT
UID:69ece26f5d4a0
DTSTART:20250715T213000Z
SEQUENCE:0
TRANSP:OPAQUE
DTEND:20250715T210000Z
SUMMARY:AU Summer Sports Camps
CLASS:PUBLIC
DESCRIPTION:AU Summer Sports Camps
DTSTAMP:20260425T154903Z
END:VEVENT
BEGIN:VEVENT
UID:69ece26f5d4a7
DTSTART:20250716T213000Z
SEQUENCE:0
TRANSP:OPAQUE
DTEND:20250716T210000Z
SUMMARY:AU Summer Sports Camps
CLASS:PUBLIC
DESCRIPTION:AU Summer Sports Camps
DTSTAMP:20260425T154903Z
END:VEVENT
BEGIN:VEVENT
UID:69ece26f5d4ad
DTSTART:20250717T213000Z
SEQUENCE:0
TRANSP:OPAQUE
DTEND:20250717T210000Z
SUMMARY:AU Summer Sports Camps
CLASS:PUBLIC
DESCRIPTION:AU Summer Sports Camps
DTSTAMP:20260425T154903Z
END:VEVENT
BEGIN:VEVENT
UID:69ece26f5d4b4
DTSTART:20250718T213000Z
SEQUENCE:0
TRANSP:OPAQUE
DTEND:20250718T210000Z
SUMMARY:AU Summer Sports Camps
CLASS:PUBLIC
DESCRIPTION:AU Summer Sports Camps
DTSTAMP:20260425T154903Z
END:VEVENT
BEGIN:VEVENT
UID:69ece26f5d4ba
DTSTART:20250719T213000Z
SEQUENCE:0
TRANSP:OPAQUE
DTEND:20250719T210000Z
SUMMARY:AU Summer Sports Camps
CLASS:PUBLIC
DESCRIPTION:AU Summer Sports Camps
DTSTAMP:20260425T154903Z
END:VEVENT
BEGIN:VEVENT
UID:69ece26f5d4c1
DTSTART:20250720T213000Z
SEQUENCE:0
TRANSP:OPAQUE
DTEND:20250720T210000Z
SUMMARY:AU Summer Sports Camps
CLASS:PUBLIC
DESCRIPTION:AU Summer Sports Camps
DTSTAMP:20260425T154903Z
END:VEVENT
BEGIN:VEVENT
UID:69ece26f5d4c7
DTSTART:20250721T213000Z
SEQUENCE:0
TRANSP:OPAQUE
DTEND:20250721T210000Z
SUMMARY:AU Summer Sports Camps
CLASS:PUBLIC
DESCRIPTION:AU Summer Sports Camps
DTSTAMP:20260425T154903Z
END:VEVENT
BEGIN:VEVENT
UID:69ece26f5d4ce
DTSTART:20250722T213000Z
SEQUENCE:0
TRANSP:OPAQUE
DTEND:20250722T210000Z
SUMMARY:AU Summer Sports Camps
CLASS:PUBLIC
DESCRIPTION:AU Summer Sports Camps
DTSTAMP:20260425T154903Z
END:VEVENT
BEGIN:VEVENT
UID:69ece26f5d4d4
DTSTART:20250723T213000Z
SEQUENCE:0
TRANSP:OPAQUE
DTEND:20250723T210000Z
SUMMARY:AU Summer Sports Camps
CLASS:PUBLIC
DESCRIPTION:AU Summer Sports Camps
DTSTAMP:20260425T154903Z
END:VEVENT
BEGIN:VEVENT
UID:69ece26f5d4da
DTSTART:20250724T213000Z
SEQUENCE:0
TRANSP:OPAQUE
DTEND:20250724T210000Z
SUMMARY:AU Summer Sports Camps
CLASS:PUBLIC
DESCRIPTION:AU Summer Sports Camps
DTSTAMP:20260425T154903Z
END:VEVENT
BEGIN:VEVENT
UID:69ece26f5d4e1
DTSTART:20250725T213000Z
SEQUENCE:0
TRANSP:OPAQUE
DTEND:20250725T210000Z
SUMMARY:AU Summer Sports Camps
CLASS:PUBLIC
DESCRIPTION:AU Summer Sports Camps
DTSTAMP:20260425T154903Z
END:VEVENT
BEGIN:VEVENT
UID:69ece26f5d4e7
DTSTART:20250726T213000Z
SEQUENCE:0
TRANSP:OPAQUE
DTEND:20250726T210000Z
SUMMARY:AU Summer Sports Camps
CLASS:PUBLIC
DESCRIPTION:AU Summer Sports Camps
DTSTAMP:20260425T154903Z
END:VEVENT
END:VCALENDAR