BEGIN:VCALENDAR
VERSION:2.0
PRODID:www.ashland.edu
BEGIN:VEVENT
UID:69ea7deb9568a
DTSTART:20250321T230000Z
SEQUENCE:0
TRANSP:OPAQUE
DTEND:20250321T180000Z
LOCATION:<a href=\"https://maps.app.goo.gl/mpST1Jwq5Syp5BAh8\">Ashland Univ
 ersity Hugo Young Theatre</a>
SUMMARY:&quot\;The Sound of Music&quot\;
CLASS:PUBLIC
DESCRIPTION:&quot\;The Sound of Music&quot\;
DTSTAMP:20260423T201539Z
END:VEVENT
BEGIN:VEVENT
UID:69ea7deb956cd
DTSTART:20250322T230000Z
SEQUENCE:0
TRANSP:OPAQUE
DTEND:20250322T180000Z
LOCATION:<a href=\"https://maps.app.goo.gl/mpST1Jwq5Syp5BAh8\">Ashland Univ
 ersity Hugo Young Theatre</a>
SUMMARY:&quot\;The Sound of Music&quot\;
CLASS:PUBLIC
DESCRIPTION:&quot\;The Sound of Music&quot\;
DTSTAMP:20260423T201539Z
END:VEVENT
BEGIN:VEVENT
UID:69ea7deb956d6
DTSTART:20250323T230000Z
SEQUENCE:0
TRANSP:OPAQUE
DTEND:20250323T180000Z
LOCATION:<a href=\"https://maps.app.goo.gl/mpST1Jwq5Syp5BAh8\">Ashland Univ
 ersity Hugo Young Theatre</a>
SUMMARY:&quot\;The Sound of Music&quot\;
CLASS:PUBLIC
DESCRIPTION:&quot\;The Sound of Music&quot\;
DTSTAMP:20260423T201539Z
END:VEVENT
END:VCALENDAR