BEGIN:VCALENDAR
VERSION:2.0
PRODID:www.ashland.edu
BEGIN:VEVENT
UID:69e8c97d8bc48
DTSTART:20260409T203000Z
SEQUENCE:0
TRANSP:OPAQUE
DTEND:20260409T200000Z
SUMMARY:Art Exhibition
CLASS:PUBLIC
DESCRIPTION:Art Exhibition
DTSTAMP:20260422T131333Z
END:VEVENT
BEGIN:VEVENT
UID:69e8c97d8bc94
DTSTART:20260410T203000Z
SEQUENCE:0
TRANSP:OPAQUE
DTEND:20260410T200000Z
SUMMARY:Art Exhibition
CLASS:PUBLIC
DESCRIPTION:Art Exhibition
DTSTAMP:20260422T131333Z
END:VEVENT
BEGIN:VEVENT
UID:69e8c97d8bc9d
DTSTART:20260411T203000Z
SEQUENCE:0
TRANSP:OPAQUE
DTEND:20260411T200000Z
SUMMARY:Art Exhibition
CLASS:PUBLIC
DESCRIPTION:Art Exhibition
DTSTAMP:20260422T131333Z
END:VEVENT
BEGIN:VEVENT
UID:69e8c97d8bca4
DTSTART:20260412T203000Z
SEQUENCE:0
TRANSP:OPAQUE
DTEND:20260412T200000Z
SUMMARY:Art Exhibition
CLASS:PUBLIC
DESCRIPTION:Art Exhibition
DTSTAMP:20260422T131333Z
END:VEVENT
BEGIN:VEVENT
UID:69e8c97d8bcab
DTSTART:20260413T203000Z
SEQUENCE:0
TRANSP:OPAQUE
DTEND:20260413T200000Z
SUMMARY:Art Exhibition
CLASS:PUBLIC
DESCRIPTION:Art Exhibition
DTSTAMP:20260422T131333Z
END:VEVENT
BEGIN:VEVENT
UID:69e8c97d8bcb1
DTSTART:20260414T203000Z
SEQUENCE:0
TRANSP:OPAQUE
DTEND:20260414T200000Z
SUMMARY:Art Exhibition
CLASS:PUBLIC
DESCRIPTION:Art Exhibition
DTSTAMP:20260422T131333Z
END:VEVENT
BEGIN:VEVENT
UID:69e8c97d8bcb8
DTSTART:20260415T203000Z
SEQUENCE:0
TRANSP:OPAQUE
DTEND:20260415T200000Z
SUMMARY:Art Exhibition
CLASS:PUBLIC
DESCRIPTION:Art Exhibition
DTSTAMP:20260422T131333Z
END:VEVENT
BEGIN:VEVENT
UID:69e8c97d8bcbe
DTSTART:20260416T203000Z
SEQUENCE:0
TRANSP:OPAQUE
DTEND:20260416T200000Z
SUMMARY:Art Exhibition
CLASS:PUBLIC
DESCRIPTION:Art Exhibition
DTSTAMP:20260422T131333Z
END:VEVENT
BEGIN:VEVENT
UID:69e8c97d8bcc5
DTSTART:20260417T203000Z
SEQUENCE:0
TRANSP:OPAQUE
DTEND:20260417T200000Z
SUMMARY:Art Exhibition
CLASS:PUBLIC
DESCRIPTION:Art Exhibition
DTSTAMP:20260422T131333Z
END:VEVENT
BEGIN:VEVENT
UID:69e8c97d8bccc
DTSTART:20260418T203000Z
SEQUENCE:0
TRANSP:OPAQUE
DTEND:20260418T200000Z
SUMMARY:Art Exhibition
CLASS:PUBLIC
DESCRIPTION:Art Exhibition
DTSTAMP:20260422T131333Z
END:VEVENT
BEGIN:VEVENT
UID:69e8c97d8bcd2
DTSTART:20260419T203000Z
SEQUENCE:0
TRANSP:OPAQUE
DTEND:20260419T200000Z
SUMMARY:Art Exhibition
CLASS:PUBLIC
DESCRIPTION:Art Exhibition
DTSTAMP:20260422T131333Z
END:VEVENT
BEGIN:VEVENT
UID:69e8c97d8bcd9
DTSTART:20260420T203000Z
SEQUENCE:0
TRANSP:OPAQUE
DTEND:20260420T200000Z
SUMMARY:Art Exhibition
CLASS:PUBLIC
DESCRIPTION:Art Exhibition
DTSTAMP:20260422T131333Z
END:VEVENT
BEGIN:VEVENT
UID:69e8c97d8bcdf
DTSTART:20260421T203000Z
SEQUENCE:0
TRANSP:OPAQUE
DTEND:20260421T200000Z
SUMMARY:Art Exhibition
CLASS:PUBLIC
DESCRIPTION:Art Exhibition
DTSTAMP:20260422T131333Z
END:VEVENT
BEGIN:VEVENT
UID:69e8c97d8bce5
DTSTART:20260422T203000Z
SEQUENCE:0
TRANSP:OPAQUE
DTEND:20260422T200000Z
SUMMARY:Art Exhibition
CLASS:PUBLIC
DESCRIPTION:Art Exhibition
DTSTAMP:20260422T131333Z
END:VEVENT
BEGIN:VEVENT
UID:69e8c97d8bcec
DTSTART:20260423T203000Z
SEQUENCE:0
TRANSP:OPAQUE
DTEND:20260423T200000Z
SUMMARY:Art Exhibition
CLASS:PUBLIC
DESCRIPTION:Art Exhibition
DTSTAMP:20260422T131333Z
END:VEVENT
BEGIN:VEVENT
UID:69e8c97d8bcf3
DTSTART:20260424T203000Z
SEQUENCE:0
TRANSP:OPAQUE
DTEND:20260424T200000Z
SUMMARY:Art Exhibition
CLASS:PUBLIC
DESCRIPTION:Art Exhibition
DTSTAMP:20260422T131333Z
END:VEVENT
BEGIN:VEVENT
UID:69e8c97d8bcf9
DTSTART:20260425T203000Z
SEQUENCE:0
TRANSP:OPAQUE
DTEND:20260425T200000Z
SUMMARY:Art Exhibition
CLASS:PUBLIC
DESCRIPTION:Art Exhibition
DTSTAMP:20260422T131333Z
END:VEVENT
BEGIN:VEVENT
UID:69e8c97d8bd00
DTSTART:20260426T203000Z
SEQUENCE:0
TRANSP:OPAQUE
DTEND:20260426T200000Z
SUMMARY:Art Exhibition
CLASS:PUBLIC
DESCRIPTION:Art Exhibition
DTSTAMP:20260422T131333Z
END:VEVENT
BEGIN:VEVENT
UID:69e8c97d8bd06
DTSTART:20260427T203000Z
SEQUENCE:0
TRANSP:OPAQUE
DTEND:20260427T200000Z
SUMMARY:Art Exhibition
CLASS:PUBLIC
DESCRIPTION:Art Exhibition
DTSTAMP:20260422T131333Z
END:VEVENT
BEGIN:VEVENT
UID:69e8c97d8bd0c
DTSTART:20260428T203000Z
SEQUENCE:0
TRANSP:OPAQUE
DTEND:20260428T200000Z
SUMMARY:Art Exhibition
CLASS:PUBLIC
DESCRIPTION:Art Exhibition
DTSTAMP:20260422T131333Z
END:VEVENT
BEGIN:VEVENT
UID:69e8c97d8bd13
DTSTART:20260429T203000Z
SEQUENCE:0
TRANSP:OPAQUE
DTEND:20260429T200000Z
SUMMARY:Art Exhibition
CLASS:PUBLIC
DESCRIPTION:Art Exhibition
DTSTAMP:20260422T131333Z
END:VEVENT
BEGIN:VEVENT
UID:69e8c97d8bd19
DTSTART:20260430T203000Z
SEQUENCE:0
TRANSP:OPAQUE
DTEND:20260430T200000Z
SUMMARY:Art Exhibition
CLASS:PUBLIC
DESCRIPTION:Art Exhibition
DTSTAMP:20260422T131333Z
END:VEVENT
BEGIN:VEVENT
UID:69e8c97d8bd20
DTSTART:20260501T203000Z
SEQUENCE:0
TRANSP:OPAQUE
DTEND:20260501T200000Z
SUMMARY:Art Exhibition
CLASS:PUBLIC
DESCRIPTION:Art Exhibition
DTSTAMP:20260422T131333Z
END:VEVENT
BEGIN:VEVENT
UID:69e8c97d8bd26
DTSTART:20260502T203000Z
SEQUENCE:0
TRANSP:OPAQUE
DTEND:20260502T200000Z
SUMMARY:Art Exhibition
CLASS:PUBLIC
DESCRIPTION:Art Exhibition
DTSTAMP:20260422T131333Z
END:VEVENT
BEGIN:VEVENT
UID:69e8c97d8bd2d
DTSTART:20260503T203000Z
SEQUENCE:0
TRANSP:OPAQUE
DTEND:20260503T200000Z
SUMMARY:Art Exhibition
CLASS:PUBLIC
DESCRIPTION:Art Exhibition
DTSTAMP:20260422T131333Z
END:VEVENT
BEGIN:VEVENT
UID:69e8c97d8bd33
DTSTART:20260504T203000Z
SEQUENCE:0
TRANSP:OPAQUE
DTEND:20260504T200000Z
SUMMARY:Art Exhibition
CLASS:PUBLIC
DESCRIPTION:Art Exhibition
DTSTAMP:20260422T131333Z
END:VEVENT
BEGIN:VEVENT
UID:69e8c97d8bd3a
DTSTART:20260505T203000Z
SEQUENCE:0
TRANSP:OPAQUE
DTEND:20260505T200000Z
SUMMARY:Art Exhibition
CLASS:PUBLIC
DESCRIPTION:Art Exhibition
DTSTAMP:20260422T131333Z
END:VEVENT
BEGIN:VEVENT
UID:69e8c97d8bd46
DTSTART:20260506T203000Z
SEQUENCE:0
TRANSP:OPAQUE
DTEND:20260506T200000Z
SUMMARY:Art Exhibition
CLASS:PUBLIC
DESCRIPTION:Art Exhibition
DTSTAMP:20260422T131333Z
END:VEVENT
BEGIN:VEVENT
UID:69e8c97d8bd52
DTSTART:20260507T203000Z
SEQUENCE:0
TRANSP:OPAQUE
DTEND:20260507T200000Z
SUMMARY:Art Exhibition
CLASS:PUBLIC
DESCRIPTION:Art Exhibition
DTSTAMP:20260422T131333Z
END:VEVENT
BEGIN:VEVENT
UID:69e8c97d8bd5b
DTSTART:20260508T203000Z
SEQUENCE:0
TRANSP:OPAQUE
DTEND:20260508T200000Z
SUMMARY:Art Exhibition
CLASS:PUBLIC
DESCRIPTION:Art Exhibition
DTSTAMP:20260422T131333Z
END:VEVENT
BEGIN:VEVENT
UID:69e8c97d8bd64
DTSTART:20260509T203000Z
SEQUENCE:0
TRANSP:OPAQUE
DTEND:20260509T200000Z
SUMMARY:Art Exhibition
CLASS:PUBLIC
DESCRIPTION:Art Exhibition
DTSTAMP:20260422T131333Z
END:VEVENT
END:VCALENDAR